BEGIN:VCALENDAR
VERSION:2.0
PRODID:-//Foxy Squirrel Bead &amp; Boutique - ECPv6.15.16//NONSGML v1.0//EN
CALSCALE:GREGORIAN
METHOD:PUBLISH
X-WR-CALNAME:Foxy Squirrel Bead &amp; Boutique
X-ORIGINAL-URL:https://dev.foxysquirrelbeadandboutique.com
X-WR-CALDESC:Events for Foxy Squirrel Bead &amp; Boutique
REFRESH-INTERVAL;VALUE=DURATION:PT1H
X-Robots-Tag:noindex
X-PUBLISHED-TTL:PT1H
BEGIN:VTIMEZONE
TZID:America/Chicago
BEGIN:DAYLIGHT
TZOFFSETFROM:-0600
TZOFFSETTO:-0500
TZNAME:CDT
DTSTART:20250309T080000
END:DAYLIGHT
BEGIN:STANDARD
TZOFFSETFROM:-0500
TZOFFSETTO:-0600
TZNAME:CST
DTSTART:20251102T070000
END:STANDARD
BEGIN:DAYLIGHT
TZOFFSETFROM:-0600
TZOFFSETTO:-0500
TZNAME:CDT
DTSTART:20260308T080000
END:DAYLIGHT
BEGIN:STANDARD
TZOFFSETFROM:-0500
TZOFFSETTO:-0600
TZNAME:CST
DTSTART:20261101T070000
END:STANDARD
BEGIN:DAYLIGHT
TZOFFSETFROM:-0600
TZOFFSETTO:-0500
TZNAME:CDT
DTSTART:20270314T080000
END:DAYLIGHT
BEGIN:STANDARD
TZOFFSETFROM:-0500
TZOFFSETTO:-0600
TZNAME:CST
DTSTART:20271107T070000
END:STANDARD
BEGIN:DAYLIGHT
TZOFFSETFROM:-0600
TZOFFSETTO:-0500
TZNAME:CDT
DTSTART:20280312T080000
END:DAYLIGHT
BEGIN:STANDARD
TZOFFSETFROM:-0500
TZOFFSETTO:-0600
TZNAME:CST
DTSTART:20281105T070000
END:STANDARD
BEGIN:DAYLIGHT
TZOFFSETFROM:-0600
TZOFFSETTO:-0500
TZNAME:CDT
DTSTART:20290311T080000
END:DAYLIGHT
BEGIN:STANDARD
TZOFFSETFROM:-0500
TZOFFSETTO:-0600
TZNAME:CST
DTSTART:20291104T070000
END:STANDARD
END:VTIMEZONE
BEGIN:VEVENT
DTSTART;TZID=America/Chicago:20260326T183000
DTEND;TZID=America/Chicago:20260326T210000
DTSTAMP:20260422T232156
CREATED:20250823T162214Z
LAST-MODIFIED:20250823T173945Z
UID:10000043-1774549800-1774558800@dev.foxysquirrelbeadandboutique.com
SUMMARY:Omaha Beading Bunch Meeting
DESCRIPTION:
URL:https://dev.foxysquirrelbeadandboutique.com/event/omaha-beading-bunch-meeting/2026-03-26/
LOCATION:925 S 84th St\, Omaha\, NE 68114\, St James Episcopal Church\, 925 S 84th St\, Omaha\, NE\, 68114\, United States
CATEGORIES:Omaha Beady Bunch
ORGANIZER;CN="Omaha Beady Bunch":MAILTO:omahabeadybunch@gmail.com
END:VEVENT
BEGIN:VEVENT
DTSTART;TZID=America/Chicago:20260423T183000
DTEND;TZID=America/Chicago:20260423T210000
DTSTAMP:20260422T232156
CREATED:20250823T162214Z
LAST-MODIFIED:20250823T173945Z
UID:10000044-1776969000-1776978000@dev.foxysquirrelbeadandboutique.com
SUMMARY:Omaha Beading Bunch Meeting
DESCRIPTION:
URL:https://dev.foxysquirrelbeadandboutique.com/event/omaha-beading-bunch-meeting/2026-04-23/
LOCATION:925 S 84th St\, Omaha\, NE 68114\, St James Episcopal Church\, 925 S 84th St\, Omaha\, NE\, 68114\, United States
CATEGORIES:Omaha Beady Bunch
ORGANIZER;CN="Omaha Beady Bunch":MAILTO:omahabeadybunch@gmail.com
END:VEVENT
BEGIN:VEVENT
DTSTART;TZID=America/Chicago:20260528T183000
DTEND;TZID=America/Chicago:20260528T210000
DTSTAMP:20260422T232156
CREATED:20250823T162214Z
LAST-MODIFIED:20250823T173945Z
UID:10000045-1779993000-1780002000@dev.foxysquirrelbeadandboutique.com
SUMMARY:Omaha Beading Bunch Meeting
DESCRIPTION:
URL:https://dev.foxysquirrelbeadandboutique.com/event/omaha-beading-bunch-meeting/2026-05-28/
LOCATION:925 S 84th St\, Omaha\, NE 68114\, St James Episcopal Church\, 925 S 84th St\, Omaha\, NE\, 68114\, United States
CATEGORIES:Omaha Beady Bunch
ORGANIZER;CN="Omaha Beady Bunch":MAILTO:omahabeadybunch@gmail.com
END:VEVENT
BEGIN:VEVENT
DTSTART;TZID=America/Chicago:20260625T183000
DTEND;TZID=America/Chicago:20260625T210000
DTSTAMP:20260422T232156
CREATED:20250823T162214Z
LAST-MODIFIED:20250823T173945Z
UID:10000046-1782412200-1782421200@dev.foxysquirrelbeadandboutique.com
SUMMARY:Omaha Beading Bunch Meeting
DESCRIPTION:
URL:https://dev.foxysquirrelbeadandboutique.com/event/omaha-beading-bunch-meeting/2026-06-25/
LOCATION:925 S 84th St\, Omaha\, NE 68114\, St James Episcopal Church\, 925 S 84th St\, Omaha\, NE\, 68114\, United States
CATEGORIES:Omaha Beady Bunch
ORGANIZER;CN="Omaha Beady Bunch":MAILTO:omahabeadybunch@gmail.com
END:VEVENT
BEGIN:VEVENT
DTSTART;TZID=America/Chicago:20260723T183000
DTEND;TZID=America/Chicago:20260723T210000
DTSTAMP:20260422T232156
CREATED:20250823T162214Z
LAST-MODIFIED:20250823T173945Z
UID:10000047-1784831400-1784840400@dev.foxysquirrelbeadandboutique.com
SUMMARY:Omaha Beading Bunch Meeting
DESCRIPTION:
URL:https://dev.foxysquirrelbeadandboutique.com/event/omaha-beading-bunch-meeting/2026-07-23/
LOCATION:925 S 84th St\, Omaha\, NE 68114\, St James Episcopal Church\, 925 S 84th St\, Omaha\, NE\, 68114\, United States
CATEGORIES:Omaha Beady Bunch
ORGANIZER;CN="Omaha Beady Bunch":MAILTO:omahabeadybunch@gmail.com
END:VEVENT
BEGIN:VEVENT
DTSTART;TZID=America/Chicago:20260827T183000
DTEND;TZID=America/Chicago:20260827T210000
DTSTAMP:20260422T232156
CREATED:20250823T162214Z
LAST-MODIFIED:20250823T173945Z
UID:10000048-1787855400-1787864400@dev.foxysquirrelbeadandboutique.com
SUMMARY:Omaha Beading Bunch Meeting
DESCRIPTION:
URL:https://dev.foxysquirrelbeadandboutique.com/event/omaha-beading-bunch-meeting/2026-08-27/
LOCATION:925 S 84th St\, Omaha\, NE 68114\, St James Episcopal Church\, 925 S 84th St\, Omaha\, NE\, 68114\, United States
CATEGORIES:Omaha Beady Bunch
ORGANIZER;CN="Omaha Beady Bunch":MAILTO:omahabeadybunch@gmail.com
END:VEVENT
BEGIN:VEVENT
DTSTART;TZID=America/Chicago:20260924T183000
DTEND;TZID=America/Chicago:20260924T210000
DTSTAMP:20260422T232156
CREATED:20250823T162214Z
LAST-MODIFIED:20250823T173945Z
UID:10000049-1790274600-1790283600@dev.foxysquirrelbeadandboutique.com
SUMMARY:Omaha Beading Bunch Meeting
DESCRIPTION:
URL:https://dev.foxysquirrelbeadandboutique.com/event/omaha-beading-bunch-meeting/2026-09-24/
LOCATION:925 S 84th St\, Omaha\, NE 68114\, St James Episcopal Church\, 925 S 84th St\, Omaha\, NE\, 68114\, United States
CATEGORIES:Omaha Beady Bunch
ORGANIZER;CN="Omaha Beady Bunch":MAILTO:omahabeadybunch@gmail.com
END:VEVENT
BEGIN:VEVENT
DTSTART;TZID=America/Chicago:20261022T183000
DTEND;TZID=America/Chicago:20261022T210000
DTSTAMP:20260422T232156
CREATED:20250823T162214Z
LAST-MODIFIED:20250823T173945Z
UID:10000050-1792693800-1792702800@dev.foxysquirrelbeadandboutique.com
SUMMARY:Omaha Beading Bunch Meeting
DESCRIPTION:
URL:https://dev.foxysquirrelbeadandboutique.com/event/omaha-beading-bunch-meeting/2026-10-22/
LOCATION:925 S 84th St\, Omaha\, NE 68114\, St James Episcopal Church\, 925 S 84th St\, Omaha\, NE\, 68114\, United States
CATEGORIES:Omaha Beady Bunch
ORGANIZER;CN="Omaha Beady Bunch":MAILTO:omahabeadybunch@gmail.com
END:VEVENT
BEGIN:VEVENT
DTSTART;TZID=America/Chicago:20261126T183000
DTEND;TZID=America/Chicago:20261126T210000
DTSTAMP:20260422T232156
CREATED:20250823T162214Z
LAST-MODIFIED:20250823T173945Z
UID:10000051-1795717800-1795726800@dev.foxysquirrelbeadandboutique.com
SUMMARY:Omaha Beading Bunch Meeting
DESCRIPTION:
URL:https://dev.foxysquirrelbeadandboutique.com/event/omaha-beading-bunch-meeting/2026-11-26/
LOCATION:925 S 84th St\, Omaha\, NE 68114\, St James Episcopal Church\, 925 S 84th St\, Omaha\, NE\, 68114\, United States
CATEGORIES:Omaha Beady Bunch
ORGANIZER;CN="Omaha Beady Bunch":MAILTO:omahabeadybunch@gmail.com
END:VEVENT
BEGIN:VEVENT
DTSTART;TZID=America/Chicago:20261224T183000
DTEND;TZID=America/Chicago:20261224T210000
DTSTAMP:20260422T232156
CREATED:20250823T162214Z
LAST-MODIFIED:20250823T173945Z
UID:10000052-1798137000-1798146000@dev.foxysquirrelbeadandboutique.com
SUMMARY:Omaha Beading Bunch Meeting
DESCRIPTION:
URL:https://dev.foxysquirrelbeadandboutique.com/event/omaha-beading-bunch-meeting/2026-12-24/
LOCATION:925 S 84th St\, Omaha\, NE 68114\, St James Episcopal Church\, 925 S 84th St\, Omaha\, NE\, 68114\, United States
CATEGORIES:Omaha Beady Bunch
ORGANIZER;CN="Omaha Beady Bunch":MAILTO:omahabeadybunch@gmail.com
END:VEVENT
BEGIN:VEVENT
DTSTART;TZID=America/Chicago:20270128T183000
DTEND;TZID=America/Chicago:20270128T210000
DTSTAMP:20260422T232156
CREATED:20250823T162214Z
LAST-MODIFIED:20250823T173945Z
UID:10000053-1801161000-1801170000@dev.foxysquirrelbeadandboutique.com
SUMMARY:Omaha Beading Bunch Meeting
DESCRIPTION:
URL:https://dev.foxysquirrelbeadandboutique.com/event/omaha-beading-bunch-meeting/2027-01-28/
LOCATION:925 S 84th St\, Omaha\, NE 68114\, St James Episcopal Church\, 925 S 84th St\, Omaha\, NE\, 68114\, United States
CATEGORIES:Omaha Beady Bunch
ORGANIZER;CN="Omaha Beady Bunch":MAILTO:omahabeadybunch@gmail.com
END:VEVENT
BEGIN:VEVENT
DTSTART;TZID=America/Chicago:20270225T183000
DTEND;TZID=America/Chicago:20270225T210000
DTSTAMP:20260422T232156
CREATED:20250823T162214Z
LAST-MODIFIED:20250823T173945Z
UID:10000054-1803580200-1803589200@dev.foxysquirrelbeadandboutique.com
SUMMARY:Omaha Beading Bunch Meeting
DESCRIPTION:
URL:https://dev.foxysquirrelbeadandboutique.com/event/omaha-beading-bunch-meeting/2027-02-25/
LOCATION:925 S 84th St\, Omaha\, NE 68114\, St James Episcopal Church\, 925 S 84th St\, Omaha\, NE\, 68114\, United States
CATEGORIES:Omaha Beady Bunch
ORGANIZER;CN="Omaha Beady Bunch":MAILTO:omahabeadybunch@gmail.com
END:VEVENT
BEGIN:VEVENT
DTSTART;TZID=America/Chicago:20270325T183000
DTEND;TZID=America/Chicago:20270325T210000
DTSTAMP:20260422T232156
CREATED:20250823T162214Z
LAST-MODIFIED:20250823T173945Z
UID:10000055-1805999400-1806008400@dev.foxysquirrelbeadandboutique.com
SUMMARY:Omaha Beading Bunch Meeting
DESCRIPTION:
URL:https://dev.foxysquirrelbeadandboutique.com/event/omaha-beading-bunch-meeting/2027-03-25/
LOCATION:925 S 84th St\, Omaha\, NE 68114\, St James Episcopal Church\, 925 S 84th St\, Omaha\, NE\, 68114\, United States
CATEGORIES:Omaha Beady Bunch
ORGANIZER;CN="Omaha Beady Bunch":MAILTO:omahabeadybunch@gmail.com
END:VEVENT
BEGIN:VEVENT
DTSTART;TZID=America/Chicago:20270422T183000
DTEND;TZID=America/Chicago:20270422T210000
DTSTAMP:20260422T232156
CREATED:20250823T162214Z
LAST-MODIFIED:20250823T173945Z
UID:10000056-1808418600-1808427600@dev.foxysquirrelbeadandboutique.com
SUMMARY:Omaha Beading Bunch Meeting
DESCRIPTION:
URL:https://dev.foxysquirrelbeadandboutique.com/event/omaha-beading-bunch-meeting/2027-04-22/
LOCATION:925 S 84th St\, Omaha\, NE 68114\, St James Episcopal Church\, 925 S 84th St\, Omaha\, NE\, 68114\, United States
CATEGORIES:Omaha Beady Bunch
ORGANIZER;CN="Omaha Beady Bunch":MAILTO:omahabeadybunch@gmail.com
END:VEVENT
BEGIN:VEVENT
DTSTART;TZID=America/Chicago:20270527T183000
DTEND;TZID=America/Chicago:20270527T210000
DTSTAMP:20260422T232156
CREATED:20250823T162214Z
LAST-MODIFIED:20250823T173945Z
UID:10000057-1811442600-1811451600@dev.foxysquirrelbeadandboutique.com
SUMMARY:Omaha Beading Bunch Meeting
DESCRIPTION:
URL:https://dev.foxysquirrelbeadandboutique.com/event/omaha-beading-bunch-meeting/2027-05-27/
LOCATION:925 S 84th St\, Omaha\, NE 68114\, St James Episcopal Church\, 925 S 84th St\, Omaha\, NE\, 68114\, United States
CATEGORIES:Omaha Beady Bunch
ORGANIZER;CN="Omaha Beady Bunch":MAILTO:omahabeadybunch@gmail.com
END:VEVENT
BEGIN:VEVENT
DTSTART;TZID=America/Chicago:20270624T183000
DTEND;TZID=America/Chicago:20270624T210000
DTSTAMP:20260422T232156
CREATED:20250823T162214Z
LAST-MODIFIED:20250823T173945Z
UID:10000058-1813861800-1813870800@dev.foxysquirrelbeadandboutique.com
SUMMARY:Omaha Beading Bunch Meeting
DESCRIPTION:
URL:https://dev.foxysquirrelbeadandboutique.com/event/omaha-beading-bunch-meeting/2027-06-24/
LOCATION:925 S 84th St\, Omaha\, NE 68114\, St James Episcopal Church\, 925 S 84th St\, Omaha\, NE\, 68114\, United States
CATEGORIES:Omaha Beady Bunch
ORGANIZER;CN="Omaha Beady Bunch":MAILTO:omahabeadybunch@gmail.com
END:VEVENT
BEGIN:VEVENT
DTSTART;TZID=America/Chicago:20270722T183000
DTEND;TZID=America/Chicago:20270722T210000
DTSTAMP:20260422T232156
CREATED:20250823T162214Z
LAST-MODIFIED:20250823T173945Z
UID:10000059-1816281000-1816290000@dev.foxysquirrelbeadandboutique.com
SUMMARY:Omaha Beading Bunch Meeting
DESCRIPTION:
URL:https://dev.foxysquirrelbeadandboutique.com/event/omaha-beading-bunch-meeting/2027-07-22/
LOCATION:925 S 84th St\, Omaha\, NE 68114\, St James Episcopal Church\, 925 S 84th St\, Omaha\, NE\, 68114\, United States
CATEGORIES:Omaha Beady Bunch
ORGANIZER;CN="Omaha Beady Bunch":MAILTO:omahabeadybunch@gmail.com
END:VEVENT
BEGIN:VEVENT
DTSTART;TZID=America/Chicago:20270826T183000
DTEND;TZID=America/Chicago:20270826T210000
DTSTAMP:20260422T232156
CREATED:20250823T162214Z
LAST-MODIFIED:20250823T173945Z
UID:10000060-1819305000-1819314000@dev.foxysquirrelbeadandboutique.com
SUMMARY:Omaha Beading Bunch Meeting
DESCRIPTION:
URL:https://dev.foxysquirrelbeadandboutique.com/event/omaha-beading-bunch-meeting/2027-08-26/
LOCATION:925 S 84th St\, Omaha\, NE 68114\, St James Episcopal Church\, 925 S 84th St\, Omaha\, NE\, 68114\, United States
CATEGORIES:Omaha Beady Bunch
ORGANIZER;CN="Omaha Beady Bunch":MAILTO:omahabeadybunch@gmail.com
END:VEVENT
BEGIN:VEVENT
DTSTART;TZID=America/Chicago:20270923T183000
DTEND;TZID=America/Chicago:20270923T210000
DTSTAMP:20260422T232156
CREATED:20250823T162214Z
LAST-MODIFIED:20250823T173945Z
UID:10000061-1821724200-1821733200@dev.foxysquirrelbeadandboutique.com
SUMMARY:Omaha Beading Bunch Meeting
DESCRIPTION:
URL:https://dev.foxysquirrelbeadandboutique.com/event/omaha-beading-bunch-meeting/2027-09-23/
LOCATION:925 S 84th St\, Omaha\, NE 68114\, St James Episcopal Church\, 925 S 84th St\, Omaha\, NE\, 68114\, United States
CATEGORIES:Omaha Beady Bunch
ORGANIZER;CN="Omaha Beady Bunch":MAILTO:omahabeadybunch@gmail.com
END:VEVENT
BEGIN:VEVENT
DTSTART;TZID=America/Chicago:20271028T183000
DTEND;TZID=America/Chicago:20271028T210000
DTSTAMP:20260422T232156
CREATED:20250823T162214Z
LAST-MODIFIED:20250823T173945Z
UID:10000062-1824748200-1824757200@dev.foxysquirrelbeadandboutique.com
SUMMARY:Omaha Beading Bunch Meeting
DESCRIPTION:
URL:https://dev.foxysquirrelbeadandboutique.com/event/omaha-beading-bunch-meeting/2027-10-28/
LOCATION:925 S 84th St\, Omaha\, NE 68114\, St James Episcopal Church\, 925 S 84th St\, Omaha\, NE\, 68114\, United States
CATEGORIES:Omaha Beady Bunch
ORGANIZER;CN="Omaha Beady Bunch":MAILTO:omahabeadybunch@gmail.com
END:VEVENT
BEGIN:VEVENT
DTSTART;TZID=America/Chicago:20271125T183000
DTEND;TZID=America/Chicago:20271125T210000
DTSTAMP:20260422T232156
CREATED:20250823T162214Z
LAST-MODIFIED:20250823T173945Z
UID:10000063-1827167400-1827176400@dev.foxysquirrelbeadandboutique.com
SUMMARY:Omaha Beading Bunch Meeting
DESCRIPTION:
URL:https://dev.foxysquirrelbeadandboutique.com/event/omaha-beading-bunch-meeting/2027-11-25/
LOCATION:925 S 84th St\, Omaha\, NE 68114\, St James Episcopal Church\, 925 S 84th St\, Omaha\, NE\, 68114\, United States
CATEGORIES:Omaha Beady Bunch
ORGANIZER;CN="Omaha Beady Bunch":MAILTO:omahabeadybunch@gmail.com
END:VEVENT
BEGIN:VEVENT
DTSTART;TZID=America/Chicago:20271223T183000
DTEND;TZID=America/Chicago:20271223T210000
DTSTAMP:20260422T232156
CREATED:20250823T162214Z
LAST-MODIFIED:20250823T173945Z
UID:10000064-1829586600-1829595600@dev.foxysquirrelbeadandboutique.com
SUMMARY:Omaha Beading Bunch Meeting
DESCRIPTION:
URL:https://dev.foxysquirrelbeadandboutique.com/event/omaha-beading-bunch-meeting/2027-12-23/
LOCATION:925 S 84th St\, Omaha\, NE 68114\, St James Episcopal Church\, 925 S 84th St\, Omaha\, NE\, 68114\, United States
CATEGORIES:Omaha Beady Bunch
ORGANIZER;CN="Omaha Beady Bunch":MAILTO:omahabeadybunch@gmail.com
END:VEVENT
BEGIN:VEVENT
DTSTART;TZID=America/Chicago:20280127T183000
DTEND;TZID=America/Chicago:20280127T210000
DTSTAMP:20260422T232156
CREATED:20250823T162214Z
LAST-MODIFIED:20250823T173945Z
UID:10000065-1832610600-1832619600@dev.foxysquirrelbeadandboutique.com
SUMMARY:Omaha Beading Bunch Meeting
DESCRIPTION:
URL:https://dev.foxysquirrelbeadandboutique.com/event/omaha-beading-bunch-meeting/2028-01-27/
LOCATION:925 S 84th St\, Omaha\, NE 68114\, St James Episcopal Church\, 925 S 84th St\, Omaha\, NE\, 68114\, United States
CATEGORIES:Omaha Beady Bunch
ORGANIZER;CN="Omaha Beady Bunch":MAILTO:omahabeadybunch@gmail.com
END:VEVENT
BEGIN:VEVENT
DTSTART;TZID=America/Chicago:20280224T183000
DTEND;TZID=America/Chicago:20280224T210000
DTSTAMP:20260422T232156
CREATED:20250823T162214Z
LAST-MODIFIED:20250823T173945Z
UID:10000066-1835029800-1835038800@dev.foxysquirrelbeadandboutique.com
SUMMARY:Omaha Beading Bunch Meeting
DESCRIPTION:
URL:https://dev.foxysquirrelbeadandboutique.com/event/omaha-beading-bunch-meeting/2028-02-24/
LOCATION:925 S 84th St\, Omaha\, NE 68114\, St James Episcopal Church\, 925 S 84th St\, Omaha\, NE\, 68114\, United States
CATEGORIES:Omaha Beady Bunch
ORGANIZER;CN="Omaha Beady Bunch":MAILTO:omahabeadybunch@gmail.com
END:VEVENT
BEGIN:VEVENT
DTSTART;TZID=America/Chicago:20280323T183000
DTEND;TZID=America/Chicago:20280323T210000
DTSTAMP:20260422T232156
CREATED:20250823T162214Z
LAST-MODIFIED:20250823T173945Z
UID:10000067-1837449000-1837458000@dev.foxysquirrelbeadandboutique.com
SUMMARY:Omaha Beading Bunch Meeting
DESCRIPTION:
URL:https://dev.foxysquirrelbeadandboutique.com/event/omaha-beading-bunch-meeting/2028-03-23/
LOCATION:925 S 84th St\, Omaha\, NE 68114\, St James Episcopal Church\, 925 S 84th St\, Omaha\, NE\, 68114\, United States
CATEGORIES:Omaha Beady Bunch
ORGANIZER;CN="Omaha Beady Bunch":MAILTO:omahabeadybunch@gmail.com
END:VEVENT
BEGIN:VEVENT
DTSTART;TZID=America/Chicago:20280427T183000
DTEND;TZID=America/Chicago:20280427T210000
DTSTAMP:20260422T232156
CREATED:20250823T162214Z
LAST-MODIFIED:20250823T173945Z
UID:10000068-1840473000-1840482000@dev.foxysquirrelbeadandboutique.com
SUMMARY:Omaha Beading Bunch Meeting
DESCRIPTION:
URL:https://dev.foxysquirrelbeadandboutique.com/event/omaha-beading-bunch-meeting/2028-04-27/
LOCATION:925 S 84th St\, Omaha\, NE 68114\, St James Episcopal Church\, 925 S 84th St\, Omaha\, NE\, 68114\, United States
CATEGORIES:Omaha Beady Bunch
ORGANIZER;CN="Omaha Beady Bunch":MAILTO:omahabeadybunch@gmail.com
END:VEVENT
BEGIN:VEVENT
DTSTART;TZID=America/Chicago:20280525T183000
DTEND;TZID=America/Chicago:20280525T210000
DTSTAMP:20260422T232156
CREATED:20250823T162214Z
LAST-MODIFIED:20250823T173945Z
UID:10000069-1842892200-1842901200@dev.foxysquirrelbeadandboutique.com
SUMMARY:Omaha Beading Bunch Meeting
DESCRIPTION:
URL:https://dev.foxysquirrelbeadandboutique.com/event/omaha-beading-bunch-meeting/2028-05-25/
LOCATION:925 S 84th St\, Omaha\, NE 68114\, St James Episcopal Church\, 925 S 84th St\, Omaha\, NE\, 68114\, United States
CATEGORIES:Omaha Beady Bunch
ORGANIZER;CN="Omaha Beady Bunch":MAILTO:omahabeadybunch@gmail.com
END:VEVENT
BEGIN:VEVENT
DTSTART;TZID=America/Chicago:20280622T183000
DTEND;TZID=America/Chicago:20280622T210000
DTSTAMP:20260422T232156
CREATED:20250823T162214Z
LAST-MODIFIED:20250823T173945Z
UID:10000070-1845311400-1845320400@dev.foxysquirrelbeadandboutique.com
SUMMARY:Omaha Beading Bunch Meeting
DESCRIPTION:
URL:https://dev.foxysquirrelbeadandboutique.com/event/omaha-beading-bunch-meeting/2028-06-22/
LOCATION:925 S 84th St\, Omaha\, NE 68114\, St James Episcopal Church\, 925 S 84th St\, Omaha\, NE\, 68114\, United States
CATEGORIES:Omaha Beady Bunch
ORGANIZER;CN="Omaha Beady Bunch":MAILTO:omahabeadybunch@gmail.com
END:VEVENT
BEGIN:VEVENT
DTSTART;TZID=America/Chicago:20280727T183000
DTEND;TZID=America/Chicago:20280727T210000
DTSTAMP:20260422T232156
CREATED:20250823T162214Z
LAST-MODIFIED:20250823T173945Z
UID:10000071-1848335400-1848344400@dev.foxysquirrelbeadandboutique.com
SUMMARY:Omaha Beading Bunch Meeting
DESCRIPTION:
URL:https://dev.foxysquirrelbeadandboutique.com/event/omaha-beading-bunch-meeting/2028-07-27/
LOCATION:925 S 84th St\, Omaha\, NE 68114\, St James Episcopal Church\, 925 S 84th St\, Omaha\, NE\, 68114\, United States
CATEGORIES:Omaha Beady Bunch
ORGANIZER;CN="Omaha Beady Bunch":MAILTO:omahabeadybunch@gmail.com
END:VEVENT
BEGIN:VEVENT
DTSTART;TZID=America/Chicago:20280824T183000
DTEND;TZID=America/Chicago:20280824T210000
DTSTAMP:20260422T232156
CREATED:20250823T162214Z
LAST-MODIFIED:20250823T173945Z
UID:10000072-1850754600-1850763600@dev.foxysquirrelbeadandboutique.com
SUMMARY:Omaha Beading Bunch Meeting
DESCRIPTION:
URL:https://dev.foxysquirrelbeadandboutique.com/event/omaha-beading-bunch-meeting/2028-08-24/
LOCATION:925 S 84th St\, Omaha\, NE 68114\, St James Episcopal Church\, 925 S 84th St\, Omaha\, NE\, 68114\, United States
CATEGORIES:Omaha Beady Bunch
ORGANIZER;CN="Omaha Beady Bunch":MAILTO:omahabeadybunch@gmail.com
END:VEVENT
END:VCALENDAR