BEGIN:VCALENDAR
VERSION:2.0
PRODID:-//Foxy Squirrel Bead &amp; Boutique - ECPv6.15.16//NONSGML v1.0//EN
CALSCALE:GREGORIAN
METHOD:PUBLISH
X-ORIGINAL-URL:https://dev.foxysquirrelbeadandboutique.com
X-WR-CALDESC:Events for Foxy Squirrel Bead &amp; Boutique
REFRESH-INTERVAL;VALUE=DURATION:PT1H
X-Robots-Tag:noindex
X-PUBLISHED-TTL:PT1H
BEGIN:VTIMEZONE
TZID:America/Chicago
BEGIN:DAYLIGHT
TZOFFSETFROM:-0600
TZOFFSETTO:-0500
TZNAME:CDT
DTSTART:20250309T080000
END:DAYLIGHT
BEGIN:STANDARD
TZOFFSETFROM:-0500
TZOFFSETTO:-0600
TZNAME:CST
DTSTART:20251102T070000
END:STANDARD
BEGIN:DAYLIGHT
TZOFFSETFROM:-0600
TZOFFSETTO:-0500
TZNAME:CDT
DTSTART:20260308T080000
END:DAYLIGHT
BEGIN:STANDARD
TZOFFSETFROM:-0500
TZOFFSETTO:-0600
TZNAME:CST
DTSTART:20261101T070000
END:STANDARD
BEGIN:DAYLIGHT
TZOFFSETFROM:-0600
TZOFFSETTO:-0500
TZNAME:CDT
DTSTART:20270314T080000
END:DAYLIGHT
BEGIN:STANDARD
TZOFFSETFROM:-0500
TZOFFSETTO:-0600
TZNAME:CST
DTSTART:20271107T070000
END:STANDARD
END:VTIMEZONE
BEGIN:VEVENT
DTSTART;TZID=America/Chicago:20260924T183000
DTEND;TZID=America/Chicago:20260924T210000
DTSTAMP:20260423T041317
CREATED:20250823T162214Z
LAST-MODIFIED:20250823T173945Z
UID:10000049-1790274600-1790283600@dev.foxysquirrelbeadandboutique.com
SUMMARY:Omaha Beading Bunch Meeting
DESCRIPTION:
URL:https://dev.foxysquirrelbeadandboutique.com/event/omaha-beading-bunch-meeting/2026-09-24/
LOCATION:925 S 84th St\, Omaha\, NE 68114\, St James Episcopal Church\, 925 S 84th St\, Omaha\, NE\, 68114\, United States
CATEGORIES:Omaha Beady Bunch
ORGANIZER;CN="Omaha Beady Bunch":MAILTO:omahabeadybunch@gmail.com
END:VEVENT
END:VCALENDAR